Workbook

Sheet Harmonogram rzeczowo-finansowy
A1: Istniejące PS | K1: Załącznik nr 2a do Regulaminu Funduszu Przedsiębiorczości Społecznej
K2: Harmonogram rzeczowo-finansowy
A4: HARMONOGRAM RZECZOWO-FINANSOWY
A6: Nazwa podmiotu: | K6: Kwota stawki jednostkowej na utworzenie miejsca pracy | N6: Wkład własny | Q6: Razem
K7: =SUM(F12+F23+F34+F45+F56) -> 0 | N7: =SUM(G12+G23+G34+G45+G56) -> 0 | Q7: =SUM(E12+E23+E34+E45+E56) -> 0
A10: Lp. | B10: Rodzaj wydatku | C10: Liczba sztuk | D10: Koszt jednostkowy | E10: Koszt całkowity | F10: Kwota stawki jednostkowej na utworzenie miejsca pracy | G10: Wkład własny | H10: Okres wydatkowania środków (poniżej należy kwotę wydatku stawki jednostkowej na utworzenie miejsca pracy)
H11: I m-c | I11: II m-c | J11: III m-c | K11: IV m-c | L11: V m-c | M11: VI m-c | N11: VII m-c | O11: VIII m-c | P11: IX m-c | Q11: X m-c | R11: XI m-c | S11: XII m-c
A12: 1 | B12: Składniki majątku trwałgo, instalacji i uruchomienia oraz ubezpieczenia i ochrony w okresie 12 m-cy finansowania miejsca pracy (ze stawki jednostkowej na utworzenie miejsca pracy) | E12: =SUM(E13:E22) -> 0 | F12: =SUM(F13:F22) -> 0 | G12: =SUM(G13:G22) -> 0 | H12: =SUM(H13:H22) -> 0 | I12: =SUM(I13:I22) -> 0 | J12: =SUM(J13:J22) -> 0 | K12: =SUM(K13:K22) -> 0 | L12: =SUM(L13:L22) -> 0 | ... S12: =SUM(S13:S22) -> 0 | T12: =IF(E12<>T13,"Błąd w wyliczeniu","")
A13: 1.1 | E13: =D13*C13 -> 0 | T13: =SUM(H12:S12) -> 0
A14: 1.2 | E14: =D14*C14 -> 0
A15: 1.3 | E15: =D15*C15 -> 0
A16: 1.4 | E16: =D16*C16 -> 0
A17: 1.5 | E17: =D17*C17 -> 0
A18: 1.6 | E18: =D18*C18 -> 0
A19: 1.7 | E19: =D19*C19 -> 0
A20: 1.8 | E20: =D20*C20 -> 0
A21: 1.9 | E21: =D21*C21 -> 0
A22: 1.10 | E22: =D22*C22 -> 0
A23: 2 | B23: Wyposażenie miejsca pracy wraz z kosztami dostawy, instalacji i uruchomienia (ze stawki jednostkowej na utworzenie miejsca pracy) | E23: =SUM(E24:E33) -> 0 | F23: =SUM(F24:F33) -> 0 | G23: =SUM(G24:G33) -> 0 | H23: =SUM(H24:H33) -> 0 | I23: =SUM(I24:I33) -> 0 | J23: =SUM(J24:J33) -> 0 | K23: =SUM(K24:K33) -> 0 | L23: =SUM(L24:L33) -> 0 | ... S23: =SUM(S24:S33) -> 0 | T23: =IF(E23<>T24,"Błąd w wyliczeniu","")
A24: 2.1 | E24: =D24*C24 -> 0 | T24: =SUM(H23:S23) -> 0
A25: 2.2 | E25: =D25*C25 -> 0
A26: 2.3 | E26: =D26*C26 -> 0
A27: 2.4 | E27: =D27*C27 -> 0
A28: 2.5 | E28: =D28*C28 -> 0
A29: 2.6 | E29: =D29*C29 -> 0
A30: 2.7 | E30: =D30*C30 -> 0
A31: 2.8 | E31: =D31*C31 -> 0
A32: 2.9 | E32: =D32*C32 -> 0
A33: 2.10 | E33: =D33*C33 -> 0
A34: 3 | B34: Dostosowanie lub adaptacja (prace remontowo-wykończeniowe budynków i pomieszczeń) (ze stawki jednostkowej na utworzenie miejsca pracy) | E34: =SUM(E35:E44) -> 0 | F34: =SUM(F35:F44) -> 0 | G34: =SUM(G35:G44) -> 0 | H34: =SUM(H35:H44) -> 0 | I34: =SUM(I35:I44) -> 0 | J34: =SUM(J35:J44) -> 0 | K34: =SUM(K35:K44) -> 0 | L34: =SUM(L35:L44) -> 0 | ... S34: =SUM(S35:S44) -> 0 | T34: =IF(E34<>T35,"Błąd w wyliczeniu","")
A35: 3.1 | E35: =D35*C35 -> 0 | T35: =SUM(H34:S34) -> 0
A36: 3.2 | E36: =D36*C36 -> 0
A37: 3.3 | E37: =D37*C37 -> 0
A38: 3.4 | E38: =D38*C38 -> 0
A39: 3.5 | E39: =D39*C39 -> 0
A40: 3.6 | E40: =D40*C40 -> 0
A41: 3.7 | E41: =D41*C41 -> 0
A42: 3.8 | E42: =D42*C42 -> 0
A43: 3.9 | E43: =D43*C43 -> 0
A44: 3.10 | E44: =D44*C44 -> 0
A45: 4 | B45: Środki obrotowe i środki produkcji (ze stawki jednostkowej na utworzenie miejsca pracy) | E45: =SUM(E46:E55) -> 0 | F45: =SUM(F46:F55) -> 0 | G45: =SUM(G46:G55) -> 0 | H45: =SUM(H46:H55) -> 0 | I45: =SUM(I46:I55) -> 0 | J45: =SUM(J46:J55) -> 0 | K45: =SUM(K46:K55) -> 0 | L45: =SUM(L46:L55) -> 0 | ... S45: =SUM(S46:S55) -> 0 | T45: =IF(E45<>T46,"Błąd w wyliczeniu","")
A46: 4.1 | E46: =D46*C46 -> 0 | T46: =SUM(H45:S45) -> 0
A47: 4.2 | E47: =D47*C47 -> 0
A48: 4.3 | E48: =D48*C48 -> 0
A49: 4.4 | E49: =D49*C49 -> 0
A50: 4.5 | E50: =D50*C50 -> 0
A51: 4.6 | E51: =D51*C51 -> 0
A52: 4.7 | E52: =D52*C52 -> 0
A53: 4.8 | E53: =D53*C53 -> 0
A54: 4.9 | E54: =D54*C54 -> 0
A55: 4.10 | E55: =D55*C55 -> 0
A56: 5 | B56: Wartości niematerialne i prawne, opłaty związane z uruchomieniem leasingu oraz kredytu inwestycyjnego (ze stawki jednostkowej na utworzenie miejsca pracy) | E56: =SUM(E57:E58) -> 0 | F56: =SUM(F57:F58) -> 0 | G56: =SUM(G57:G58) -> 0 | H56: =SUM(H57:H58) -> 0 | I56: =SUM(I57:I58) -> 0 | J56: =SUM(J57:J58) -> 0 | K56: =SUM(K57:K58) -> 0 | L56: =SUM(L57:L58) -> 0 | ... S56: =SUM(S57:S58) -> 0 | T56: =IF(E56<>T57,"Błąd w wyliczeniu","")
A57: 4.1 | E57: =D57*C57 -> 0 | T57: =SUM(H56:S56) -> 0
A58: 4.2 | E58: =D58*C58 -> 0
A59: Razem wydatki | E59: =SUM(E56+E45+E34+E23+E12) -> 0 | F59: =SUM(F56+F45+F34+F23+F12) -> 0 | G59: =SUM(G56+G45+G34+G23+G12) -> 0 | H59: =SUM(H56+H45+H34+H23+H12) -> 0 | I59: =SUM(I56+I45+I34+I23+I12) -> 0 | J59: =SUM(J56+J45+J34+J23+J12) -> 0 | K59: =SUM(K56+K45+K34+K23+K12) -> 0 | L59: =SUM(L56+L45+L34+L23+L12) -> 0 | ... S59: =SUM(S56+S45+S34+S23+S12) -> 0
A61: Data oraz czytelne podpisy osób uprawnionych do reprezentacji:

Sheet Plan inwestycyjny i syt. finans
A1: Istniejące PS | L1: Załącznik nr 2a Regulaminu Funduszu Przediębiorczości Społecznej
L2: Plan inwestycyjny oraz sytuacja ekonomiczno-finansowa
B3: G. PLAN INWESTYCYJNY
A5: Liczba osób przewidzianych do zatrudnienia w PS, spełniających kryteria Regulaminu Funduszu Przedsiębiorczości Społecznej w ramach Projektu pn. „Ośrodek Wsparcia Ekonomii Społecznej w Nidzicy” numer FEWM.09.02-IZ.00-002/23, w tym: | R5: =SUM(R6:R8) -> 0 | S5: =IF(R5>10,"Maksymalna liczba osób przewidzianych do zatrudnienia nie może przekroczyć 10","")
C6: w przypadku utrzymania miejsca pracy na 1 etat
C7: w przypadku utrzymania miejsca pracy minimum na 3/4 etatu
C8: w przypadku utrzymania miejsca pracy minimum na 1/2 etatu
A10: Środki z dotacji inwestycyjnej | Q10: =SUM(C14:N18) -> 0 | S10: =IF(Q10>35212*R5,"Przekroczona maksymalna wartość dotacji inwestycyjnej","")
A12: G.1 | B12: Prognoza kosztów/wydatków1 | C12: Pierwszy rok działalności | O12: Drugi rok działalności | S12: =IF(SUM(C14:N18)>R5*35212,"Przekroczono limit wydatków założonych w dotacji inwestycyjnej","")
B13: Kategoria kosztu/wydatku | C13: I m-c | D13: II m-c | E13: III m-c | F13: IV m-c | G13: V m-c | H13: VI m-c | I13: VII m-c | J13: VIII m-c | K13: IX m-c | L13: X m-c | M13: XI m-c | N13: XII m-c | O13: I kw. | P13: II kw. | Q13: III kw. | R13: IV kw.
A14: 1 | B14: Składniki majątku trwałego, instalacji i uruchomienia oraz ubezpieczenia i ochrony w okresie 12 m-cy finansowania miejsca pracy (ze stawki jednostkowej na utworzenie miejsca pracy) | C14: =SUM('Harmonogram rzeczowo-finansowy'!H12) -> 0 | D14: =SUM('Harmonogram rzeczowo-finansowy'!I12) -> 0 | E14: =SUM('Harmonogram rzeczowo-finansowy'!J12) -> 0 | F14: =SUM('Harmonogram rzeczowo-finansowy'!K12) -> 0 | G14: =SUM('Harmonogram rzeczowo-finansowy'!L12) -> 0 | H14: =SUM('Harmonogram rzeczowo-finansowy'!M12) -> 0 | I14: =SUM('Harmonogram rzeczowo-finansowy'!N12) -> 0 | J14: =SUM('Harmonogram rzeczowo-finansowy'!O12) -> 0 | ... N14: =SUM('Harmonogram rzeczowo-finansowy'!S12) -> 0 | O14: 0 | P14: 0 | Q14: 0 | R14: 0
A15: 2 | B15: Wyposażenie miejsca pracy wraz z kosztami dostawy, instalacji i uruchomienia (ze stawki jednostkowej na utworzenie miejsca pracy) | C15: =SUM('Harmonogram rzeczowo-finansowy'!H23) -> 0 | D15: =SUM('Harmonogram rzeczowo-finansowy'!I23) -> 0 | E15: =SUM('Harmonogram rzeczowo-finansowy'!J23) -> 0 | F15: =SUM('Harmonogram rzeczowo-finansowy'!K23) -> 0 | G15: =SUM('Harmonogram rzeczowo-finansowy'!L23) -> 0 | H15: =SUM('Harmonogram rzeczowo-finansowy'!M23) -> 0 | I15: =SUM('Harmonogram rzeczowo-finansowy'!N23) -> 0 | J15: =SUM('Harmonogram rzeczowo-finansowy'!O23) -> 0 | ... N15: =SUM('Harmonogram rzeczowo-finansowy'!S23) -> 0 | O15: 0 | P15: 0 | Q15: 0 | R15: 0
A16: 3 | B16: Dostosowania lub adaptacji (prace remontowo-wykończeniowe budynków i pomieszczeń) (ze stawki jednostkowej na utworzenie miejsca pracy) | C16: =SUM('Harmonogram rzeczowo-finansowy'!H34) -> 0 | D16: =SUM('Harmonogram rzeczowo-finansowy'!I34) -> 0 | E16: =SUM('Harmonogram rzeczowo-finansowy'!J34) -> 0 | F16: =SUM('Harmonogram rzeczowo-finansowy'!K34) -> 0 | G16: =SUM('Harmonogram rzeczowo-finansowy'!L34) -> 0 | H16: =SUM('Harmonogram rzeczowo-finansowy'!M34) -> 0 | I16: =SUM('Harmonogram rzeczowo-finansowy'!N34) -> 0 | J16: =SUM('Harmonogram rzeczowo-finansowy'!O34) -> 0 | ... N16: =SUM('Harmonogram rzeczowo-finansowy'!S34) -> 0 | O16: 0 | P16: 0 | Q16: 0 | R16: 0
A17: 4 | B17: Środki obrotowe i środki produkcji (ze stawki jednostkowej na utworzenie miejsca pracy) | C17: =SUM('Harmonogram rzeczowo-finansowy'!H45) -> 0 | D17: =SUM('Harmonogram rzeczowo-finansowy'!I45) -> 0 | E17: =SUM('Harmonogram rzeczowo-finansowy'!J45) -> 0 | F17: =SUM('Harmonogram rzeczowo-finansowy'!K45) -> 0 | G17: =SUM('Harmonogram rzeczowo-finansowy'!L45) -> 0 | H17: =SUM('Harmonogram rzeczowo-finansowy'!M45) -> 0 | I17: =SUM('Harmonogram rzeczowo-finansowy'!N45) -> 0 | J17: =SUM('Harmonogram rzeczowo-finansowy'!O45) -> 0 | ... N17: =SUM('Harmonogram rzeczowo-finansowy'!S45) -> 0 | O17: 0 | P17: 0 | Q17: 0 | R17: 0
A18: 5 | B18: Wartości niematerialne i prawne, opłaty związane z uruchomieniem leasingu oraz kredytu inwestycyjnego (ze stawki jednostkowej na utworzenie miejsca pracy) | C18: =SUM('Harmonogram rzeczowo-finansowy'!H56) -> 0 | D18: =SUM('Harmonogram rzeczowo-finansowy'!I56) -> 0 | E18: =SUM('Harmonogram rzeczowo-finansowy'!J56) -> 0 | F18: =SUM('Harmonogram rzeczowo-finansowy'!K56) -> 0 | G18: =SUM('Harmonogram rzeczowo-finansowy'!L56) -> 0 | H18: =SUM('Harmonogram rzeczowo-finansowy'!M56) -> 0 | I18: =SUM('Harmonogram rzeczowo-finansowy'!N56) -> 0 | J18: =SUM('Harmonogram rzeczowo-finansowy'!O56) -> 0 | ... N18: =SUM('Harmonogram rzeczowo-finansowy'!S56) -> 0 | O18: 0 | P18: 0 | Q18: 0 | R18: 0
A19: 6 | B19: Opłaty związane z rejestracją/zmianą wpisu PS w KRS lub innej ewidencji
A20: 7 | B20: Wynagrodzenia pracowników netto
A21: 8 | B21: Ubezpieczenia społeczne i inne świadczenia
A22: 9 | B22: Usługi księgowe
A23: 10 | B23: Czynsz lub wynajem
A24: 11 | B24: Koszt mediów: energia elektryczna, gaz, woda, co.
A25: 12 | B25: Koszt wywozu śmieci i nieczystości stałych
A26: 13 | B26: Środki czystości
A27: 14 | B27: Podatek od nieruchomości
A28: 15 | B28: Opłaty telekomunikacyjne i teleinformatyczne
A29: 16 | B29: Abonament RTV
A30: 17 | B30: Usługi pocztowe
... A46: 33 | B46: Amortyzacja2
B47: Suma | C47: =C14+C15+C16+C17+C19+C20+C21+C18+C22+C23+C24+C25+C26+C27+C28+C29+C30+C31+C32+C33+C34+C35+C36+C37+C43+C44+C38+C39+C40+C41+C42+C45+C46 -> 0 | D47: =D14+D15+D16+D17+D19+D20+D21+D18+D22+D23+D24+D25+D26+D27+D28+D29+D30+D31+D32+D33+D34+D35+D36+D37+D43+D44+D38+D39+D40+D41+D42+D45+D46 -> 0 | E47: =E14+E15+E16+E17+E19+E20+E21+E18+E22+E23+E24+E25+E26+E27+E28+E29+E30+E31+E32+E33+E34+E35+E36+E37+E43+E44+E38+E39+E40+E41+E42+E45+E46 -> 0 | F47: =F14+F15+F16+F17+F19+F20+F21+F18+F22+F23+F24+F25+F26+F27+F28+F29+F30+F31+F32+F33+F34+F35+F36+F37+F43+F44+F38+F39+F40+F41+F42+F45+F46 -> 0 | G47: =G14+G15+G16+G17+G19+G20+G21+G18+G22+G23+G24+G25+G26+G27+G28+G29+G30+G31+G32+G33+G34+G35+G36+G37+G43+G44+G38+G39+G40+G41+G42+G45+G46 -> 0 | H47: =H14+H15+H16+H17+H19+H20+H21+H18+H22+H23+H24+H25+H26+H27+H28+H29+H30+H31+H32+H33+H34+H35+H36+H37+H43+H44+H38+H39+H40+H41+H42+H45+H46 -> 0 | I47: =I14+I15+I16+I17+I19+I20+I21+I22+I23+I24+I25+I26+I27+I28+I29+I30+I31+I32+I33+I34+I35+I36+I37+I38+I39+I40+I41+I42+I45+I46+I43+I44 -> 0 | J47: =J14+J15+J16+J17+J19+J20+J21+J22+J23+J24+J25+J26+J27+J28+J29+J30+J31+J32+J33+J34+J35+J36+J37+J38+J39+J40+J41+J42+J45+J46+J43+J44 -> 0 | K47: =K14+K15+K16+K17+K19+K20+K21+K22+K23+K24+K25+K26+K27+K28+K29+K30+K31+K32+K33+K34+K35+K36+K37+K38+K39+K40+K41+K42+K45+K46+K43+K44 -> 0 | L47: =L14+L15+L16+L17+L19+L20+L21+L22+L23+L24+L25+L26+L27+L28+L29+L30+L31+L32+L33+L34+L35+L36+L37+L38+L39+L40+L41+L42+L45+L46+L43+L44 -> 0 | M47: =M14+M15+M16+M17+M19+M20+M21+M22+M23+M24+M25+M26+M27+M28+M29+M30+M31+M32+M33+M34+M35+M36+M37+M38+M39+M40+M41+M42+M45+M46+M43+M44 -> 0 | N47: =N14+N15+N16+N17+N19+N20+N21+N22+N23+N24+N25+N26+N27+N28+N29+N30+N31+N32+N33+N34+N35+N36+N37+N38+N39+N40+N41+N42+N45+N46+N43+N44 -> 0 | O47: =O14+O15+O16+O17+O19+O20+O21+O22+O23+O24+O25+O26+O27+O28+O29+O30+O31+O32+O33+O34+O35+O36+O37+O38+O39+O40+O41+O42+O45+O46+O43+O44 -> 0 | P47: =P14+P15+P16+P17+P19+P20+P21+P22+P23+P24+P25+P26+P27+P28+P29+P30+P31+P32+P33+P34+P35+P36+P37+P38+P39+P40+P41+P42+P45+P46+P43+P44 -> 0 | ... R47: =R14+R15+R16+R17+R19+R20+R21+R22+R23+R24+R25+R26+R27+R28+R29+R30+R31+R32+R33+R34+R35+R36+R37+R38+R39+R40+R41+R42+R45+R46+R43+R44 -> 0
A49: G.2 | B49: Uzasadnienie zakupu wartości niematrialne i prawne
A51: G.3 | B51: Uzasadnienie zakupów aktywów trwałych (w szczególności uzasadnić zakup pojazdów)
A53: G.4 | B53: Opis lokalu, w którym planowane są wydatki na prace remontowe i budowlane oraz uzasadnienie konieczności przeprowadzenia tych prac (lokalizacja, prawo do lokalu, uregulowania w okresie korzystania z lokalu, umowy przedwstępne, konieczność uzyskania pozwolenia na budowę lub zgłoszenia prac budowlanych, kosztorys budowlany, komu planuje się powierzenie wykonania tych pra)
A55: G.5 | B55: Uzasadnienie zakupupów środków obrotowych
A57: G.6 | B57: Uzasadnienie zakupów wyposażenia
A59: G.7 | B59: Uzasadnienie poszczególnych kosztów (jeżeli wymagane)
B61: H. SYTUACJA EKONOMICZNO-FINANSOWA
A63: H.1 | B63: Prognoza cen oraz wielkości sprzedaży produktów/usług
A64: lp. | B64: Produkt/usługa | C64: Poprzedni rok działalności | F64: Pierwszy rok działalności | T64: Drugi rok działalności
C65: Jednostka | D65: Cena sprzedaży | E65: Wielkość sprzedaży | F65: Jednostka | G65: Cena sprzedaży | H65: Wielkość sprzedaży | T65: Jednostka | U65: Cena sprzedaży | V65: Wielkość sprzedaży
H66: I m-c | I66: II m-c | J66: III m-c | K66: IV m-c | L66: V m-c | M66: VI m-c | N66: VII m-c | O66: VIII m-c | P66: IX m-c | Q66: X m-c | R66: XI m-c | S66: XII m-c | V66: I kw. | W66: II kw. | X66: III kw. | Y66: IV kw.
A67: 1
A68: 2
A69: 3
A70: 4
A71: 5
A72: 6
A73: 7
A74: 8
A75: 9
A76: 10
A77: 11
A78: 12
A80: H.2 | B80: Uzasadnienie wielkości sprzedaży
A82: H.3 | B82: Prognoza przychodów ze sprzedaży | C82: Poprzedni rok działalności | D82: Pierwszy rok działalności | P82: Drugi rok działalności | T82: Roczny wskaźnik wzrostu obrotów
A83: lp. | B83: Produkt/usługa | D83: I m-c | E83: II m-c | F83: III m-c | G83: IV m-c | H83: V m-c | I83: VI m-c | J83: VII m-c | K83: VIII m-c | L83: IX m-c | M83: X m-c | N83: XI m-c | O83: XII m-c | P83: I kw. | Q83: II kw. | R83: III kw. | S83: IV kw.
A84: 1 | B84: =B67 -> 0 | C84: =E67*$D$67 -> 0 | D84: =H67*$G$67 -> 0 | E84: =I67*$G$67 -> 0 | F84: =J67*$G$67 -> 0 | G84: =K67*$G$67 -> 0 | H84: =L67*$G$67 -> 0 | I84: =M67*$G$67 -> 0 | J84: =N67*$G$67 -> 0 | K84: =O67*$G$67 -> 0 | ... O84: =S67*$G$67 -> 0 | P84: =V67*$U67 -> 0 | Q84: =W67*$U67 -> 0 | R84: =X67*$U67 -> 0 | S84: =Y67*$U67 -> 0 | T84: =((SUM(P84:S84)-SUM(D84:O84))/SUM(D84:O84))*100% -> #DIV/0!
A85: 2 | B85: =B68 -> 0 | C85: =E68*$D$67 -> 0 | D85: =H68*$G$68 -> 0 | E85: =I68*$G$68 -> 0 | F85: =J68*$G$68 -> 0 | G85: =K68*$G$68 -> 0 | H85: =L68*$G$68 -> 0 | I85: =M68*$G$68 -> 0 | J85: =N68*$G$68 -> 0 | K85: =O68*$G$68 -> 0 | ... O85: =S68*$G$68 -> 0 | P85: =V68*$U68 -> 0 | Q85: =W68*$U68 -> 0 | R85: =X68*$U68 -> 0 | S85: =Y68*$U68 -> 0 | T85: =((SUM(P85:S85)-SUM(D85:O85))/SUM(D85:O85))*100% -> #DIV/0!
A86: 3 | B86: =B69 -> 0 | C86: =E69*$D$67 -> 0 | D86: =H69*$G$69 -> 0 | E86: =I69*$G$69 -> 0 | F86: =J69*$G$69 -> 0 | G86: =K69*$G$69 -> 0 | H86: =L69*$G$69 -> 0 | I86: =M69*$G$69 -> 0 | J86: =N69*$G$69 -> 0 | K86: =O69*$G$69 -> 0 | ... O86: =S69*$G$69 -> 0 | P86: =V69*$U69 -> 0 | Q86: =W69*$U69 -> 0 | R86: =X69*$U69 -> 0 | S86: =Y69*$U69 -> 0 | T86: =((SUM(P86:S86)-SUM(D86:O86))/SUM(D86:O86))*100% -> #DIV/0!
A87: 4 | B87: =B70 -> 0 | C87: =E70*$D$67 -> 0 | D87: =H70*$G$70 -> 0 | E87: =I70*$G$70 -> 0 | F87: =J70*$G$70 -> 0 | G87: =K70*$G$70 -> 0 | H87: =L70*$G$70 -> 0 | I87: =M70*$G$70 -> 0 | J87: =N70*$G$70 -> 0 | K87: =O70*$G$70 -> 0 | ... O87: =S70*$G$70 -> 0 | P87: =V70*$U70 -> 0 | Q87: =W70*$U70 -> 0 | R87: =X70*$U70 -> 0 | S87: =Y70*$U70 -> 0 | T87: =((SUM(P87:S87)-SUM(D87:O87))/SUM(D87:O87))*100% -> #DIV/0!
A88: 5 | B88: =B71 -> 0 | C88: =E71*$D$67 -> 0 | D88: =H71*$G$71 -> 0 | E88: =I71*$G$71 -> 0 | F88: =J71*$G$71 -> 0 | G88: =K71*$G$71 -> 0 | H88: =L71*$G$71 -> 0 | I88: =M71*$G$71 -> 0 | J88: =N71*$G$71 -> 0 | K88: =O71*$G$71 -> 0 | ... O88: =S71*$G$71 -> 0 | P88: =V71*$U71 -> 0 | Q88: =W71*$U71 -> 0 | R88: =X71*$U71 -> 0 | S88: =Y71*$U71 -> 0 | T88: =((SUM(P88:S88)-SUM(D88:O88))/SUM(D88:O88))*100% -> #DIV/0!
A89: 6 | B89: =B72 -> 0 | C89: =E72*$D$67 -> 0 | D89: =H72*$G$72 -> 0 | E89: =I72*$G$72 -> 0 | F89: =J72*$G$72 -> 0 | G89: =K72*$G$72 -> 0 | H89: =L72*$G$72 -> 0 | I89: =M72*$G$72 -> 0 | J89: =N72*$G$72 -> 0 | K89: =O72*$G$72 -> 0 | ... O89: =S72*$G$72 -> 0 | P89: =V72*$U72 -> 0 | Q89: =W72*$U72 -> 0 | R89: =X72*$U72 -> 0 | S89: =Y72*$U72 -> 0 | T89: =((SUM(P89:S89)-SUM(D89:O89))/SUM(D89:O89))*100% -> #DIV/0!
A90: 7 | B90: =B73 -> 0 | C90: =E73*$D$67 -> 0 | D90: =H73*$G$73 -> 0 | E90: =I73*$G$73 -> 0 | F90: =J73*$G$73 -> 0 | G90: =K73*$G$73 -> 0 | H90: =L73*$G$73 -> 0 | I90: =M73*$G$73 -> 0 | J90: =N73*$G$73 -> 0 | K90: =O73*$G$73 -> 0 | ... O90: =S73*$G$73 -> 0 | P90: =V73*$U73 -> 0 | Q90: =W73*$U73 -> 0 | R90: =X73*$U73 -> 0 | S90: =Y73*$U73 -> 0 | T90: =((SUM(P90:S90)-SUM(D90:O90))/SUM(D90:O90))*100% -> #DIV/0!
A91: 8 | B91: =B74 -> 0 | C91: =E74*$D$67 -> 0 | D91: =H74*$G$74 -> 0 | E91: =I74*$G$74 -> 0 | F91: =J74*$G$74 -> 0 | G91: =K74*$G$74 -> 0 | H91: =L74*$G$74 -> 0 | I91: =M74*$G$74 -> 0 | J91: =N74*$G$74 -> 0 | K91: =O74*$G$74 -> 0 | ... O91: =S74*$G$74 -> 0 | P91: =V74*$U74 -> 0 | Q91: =W74*$U74 -> 0 | R91: =X74*$U74 -> 0 | S91: =Y74*$U74 -> 0 | T91: =((SUM(P91:S91)-SUM(D91:O91))/SUM(D91:O91))*100% -> #DIV/0!
A92: 9 | B92: =B75 -> 0 | C92: =E75*$D$67 -> 0 | D92: =H75*$G$75 -> 0 | E92: =I75*$G$75 -> 0 | F92: =J75*$G$75 -> 0 | G92: =K75*$G$75 -> 0 | H92: =L75*$G$75 -> 0 | I92: =M75*$G$75 -> 0 | J92: =N75*$G$75 -> 0 | K92: =O75*$G$75 -> 0 | ... O92: =S75*$G$75 -> 0 | P92: =V75*$U75 -> 0 | Q92: =W75*$U75 -> 0 | R92: =X75*$U75 -> 0 | S92: =Y75*$U75 -> 0 | T92: =((SUM(P92:S92)-SUM(D92:O92))/SUM(D92:O92))*100% -> #DIV/0!
A93: 10 | B93: =B76 -> 0 | C93: =E76*$D$67 -> 0 | D93: =H76*$G$76 -> 0 | E93: =I76*$G$76 -> 0 | F93: =J76*$G$76 -> 0 | G93: =K76*$G$76 -> 0 | H93: =L76*$G$76 -> 0 | I93: =M76*$G$76 -> 0 | J93: =N76*$G$76 -> 0 | K93: =O76*$G$76 -> 0 | ... O93: =S76*$G$76 -> 0 | P93: =V76*$U76 -> 0 | Q93: =W76*$U76 -> 0 | R93: =X76*$U76 -> 0 | S93: =Y76*$U76 -> 0 | T93: =((SUM(P93:S93)-SUM(D93:O93))/SUM(D93:O93))*100% -> #DIV/0!
A94: 11 | B94: =B77 -> 0 | C94: =E77*$D$67 -> 0 | D94: =H77*$G$77 -> 0 | E94: =I77*$G$77 -> 0 | F94: =J77*$G$77 -> 0 | G94: =K77*$G$77 -> 0 | H94: =L77*$G$77 -> 0 | I94: =M77*$G$77 -> 0 | J94: =N77*$G$77 -> 0 | K94: =O77*$G$77 -> 0 | ... O94: =S77*$G$77 -> 0 | P94: =V77*$U77 -> 0 | Q94: =W77*$U77 -> 0 | R94: =X77*$U77 -> 0 | S94: =Y77*$U77 -> 0 | T94: =((SUM(P94:S94)-SUM(D94:O94))/SUM(D94:O94))*100% -> #DIV/0!
A95: 12 | B95: =B78 -> 0 | C95: =E78*$D$67 -> 0 | D95: =H78*$G$78 -> 0 | E95: =I78*$G$78 -> 0 | F95: =J78*$G$78 -> 0 | G95: =K78*$G$78 -> 0 | H95: =L78*$G$78 -> 0 | I95: =M78*$G$78 -> 0 | J95: =N78*$G$78 -> 0 | K95: =O78*$G$78 -> 0 | ... O95: =S78*$G$78 -> 0 | P95: =V78*$U78 -> 0 | Q95: =W78*$U78 -> 0 | R95: =X78*$U78 -> 0 | S95: =Y78*$U78 -> 0 | T95: =((SUM(P95:S95)-SUM(D95:O95))/SUM(D95:O95))*100% -> #DIV/0!
B96: Suma | C96: =SUM(C84:C95) -> 0 | D96: =SUM(D84:D95) -> 0 | E96: =SUM(E84:E95) -> 0 | F96: =SUM(F84:F95) -> 0 | G96: =SUM(G84:G95) -> 0 | H96: =SUM(H84:H95) -> 0 | I96: =SUM(I84:I95) -> 0 | J96: =SUM(J84:J95) -> 0 | ... S96: =SUM(S84:S95) -> 0 | T96: =AVERAGE(T84:T95) -> #DIV/0!
A98: H.4 | B98: Prognoza zysku/straty i nadwyżek finansowych | C98: Pierwszy rok działalności | O98: Drugi rok działalności | S98: Razem
A99: lp. | B99: Kategoria | C99: I m-c | D99: II m-c | E99: III m-c | F99: IV m-c | G99: V m-c | H99: VI m-c | I99: VII m-c | J99: VIII m-c | K99: IX m-c | L99: X m-c | M99: XI m-c | N99: XII m-c | O99: I kw. | P99: II kw. | Q99: III kw. | R99: IV kw.
A100: 1 | B100: Przychód z działalności gospodarczej | C100: =D96 -> 0 | D100: =E96 -> 0 | E100: =F96 -> 0 | F100: =G96 -> 0 | G100: =H96 -> 0 | H100: =I96 -> 0 | I100: =J96 -> 0 | J100: =K96 -> 0 | ... R100: =S96 -> 0 | S100: =SUM(C100:R100) -> 0
A101: 2 | B101: Wkład własny | S101: =SUM(C101:R101) -> 0
A102: 3 | B102: Dofinansowanie z PFRON | S102: =SUM(C102:R102) -> 0
A103: 4 | B103: Wydatki ze stawki jednostkowej na utworzenie miejsca pracy1 | C103: =SUM(C14:C18) -> 0 | D103: =SUM(D14:D18) -> 0 | E103: =SUM(E14:E18) -> 0 | F103: =SUM(F14:F18) -> 0 | G103: =SUM(G14:G18) -> 0 | H103: =SUM(H14:H18) -> 0 | I103: =SUM(I14:I18) -> 0 | J103: =SUM(J14:J18) -> 0 | ... R103: =SUM(R14:R18) -> 0 | S103: =SUM(C103:R103) -> 0
A104: 5 | B104: Koszty operacyjne | C104: =C47-(C14+C15+C16+C17+C18) -> 0 | D104: =D47-(D14+D15+D16+D17+D18) -> 0 | E104: =E47-(E14+E15+E16+E17+E18) -> 0 | F104: =F47-(F14+F15+F16+F17+F18) -> 0 | G104: =G47-(G14+G15+G16+G17+G18) -> 0 | H104: =H47-(H14+H15+H16+H17+H18) -> 0 | I104: =I47-(I14+I15+I16+I17+I18) -> 0 | J104: =J47-(J14+J15+J16+J17+J18) -> 0 | ... R104: =R47-(R14+R15+R16+R17+R18) -> 0 | S104: =SUM(C104:R104) -> 0
A105: 6 | B105: Środki ze stawki jednostkowej na utworzenie miejsca pracy3 | C105: =SUM(C14:C17) -> 0 | D105: =SUM(D14:D17) -> 0 | E105: =SUM(E14:E17) -> 0 | F105: =SUM(F14:F17) -> 0 | G105: =SUM(G14:G17) -> 0 | H105: =SUM(H14:H17) -> 0 | I105: =SUM(I14:I17) -> 0 | J105: =SUM(J14:J17) -> 0 | ... R105: =SUM(R14:R17) -> 0 | S105: =SUM(C105:R105) -> 0
A106: 7 | B106: Środki ze stawki jednostkowej na utrzymanie miejsca pracy 3 | C106: =($R$6*$D$125/12)+($R$7*$D$126/12)+($R$8*$D$127/12) -> 0 | D106: =($R$6*$D$125/12)+($R$7*$D$126/12)+($R$8*$D$127/12) -> 0 | E106: =($R$6*$D$125/12)+($R$7*$D$126/12)+($R$8*$D$127/12) -> 0 | F106: =($R$6*$D$125/12)+($R$7*$D$126/12)+($R$8*$D$127/12) -> 0 | G106: =($R$6*$D$125/12)+($R$7*$D$126/12)+($R$8*$D$127/12) -> 0 | H106: =($R$6*$D$125/12)+($R$7*$D$126/12)+($R$8*$D$127/12) -> 0 | I106: =($R$6*$D$125/12)+($R$7*$D$126/12)+($R$8*$D$127/12) -> 0 | J106: =($R$6*$D$125/12)+($R$7*$D$126/12)+($R$8*$D$127/12) -> 0 | ... N106: =($R$6*$D$125/12)+($R$7*$D$126/12)+($R$8*$D$127/12) -> 0 | O106: 0 | P106: 0 | Q106: 0 | R106: 0 | S106: =SUM(C106:R106) -> 0
A107: 8 | B107: Wydatki nie będące kosztem1 | C107: =C103 -> 0 | D107: =D103 -> 0 | E107: =E103 -> 0 | F107: =F103 -> 0 | G107: =G103 -> 0 | H107: =H103 -> 0 | I107: =I103 -> 0 | J107: =J103 -> 0 | ... R107: =R103 -> 0 | S107: =SUM(C107:R107) -> 0
A108: 9 | B108: Prognozowany wynik finansowy | C108: =C100-C104 -> 0 | D108: =D100-D104 -> 0 | E108: =E100-E104 -> 0 | F108: =F100-F104 -> 0 | G108: =G100-G104 -> 0 | H108: =H100-H104 -> 0 | I108: =I100-I104 -> 0 | J108: =J100-J104 -> 0 | ... R108: =R100-R104 -> 0 | S108: =SUM(C108:R108) -> 0
A109: 11 | B109: Prognozowana nadwyżka finansowa narastająco (stan środków) | C109: =(C100+C101+C102+C105+C106)-((C107+C104)-C46) -> 0 | D109: =(D100+D101+D102+D105+D106)-((D107+D104)-D46)+C109 -> 0 | E109: =(E100+E101+E102+E105+E106)-((E107+E104)-E46)+D109 -> 0 | F109: =(F100+F101+F102+F105+F106)-((F107+F104)-F46)+E109 -> 0 | G109: =(G100+G101+G102+G105+G106)-((G107+G104)-G46)+F109 -> 0 | H109: =(H100+H101+H102+H105+H106)-((H107+H104)-H46)+G109 -> 0 | I109: =(I100+I101+I102+I105+I106)-((I107+I104)-I46)+H109 -> 0 | J109: =(J100+J101+J102+J105+J106)-((J107+J104)-J46)+I109 -> 0 | K109: =(K100+K101+K102+K105+K106)-((K107+K104)-K46)+J109 -> 0 | ... R109: =(R100+R101+R102+R105+R106)-((R107+R104)-R46)+Q109 -> 0 | S109: =(S100+S101+S102+S105+S106)-((S107+S104)-S46) -> 0
A111: H.5 | B111: W jakim terminie kontrahenci będą płacić za produkty/usługi? Czy PS będzie w stanie na bieżąco regulować swoje zobowiązania?
A113: H.6 | B113: W jakim sposób kontrahenci będą płacić za produkty/usługi?
A115: H.7 | B115: W jaki sposób przedsiębiorstwo utrzyma płynność finansową w przypadku odroczonych terminów płatności?
B117: Data oraz czytelne podpisy osób uprawnionych do reprezentacji:
B120: 1Zgodnie z ustawą o podatku dochodowym od osób prawnych nie uważa się za koszty uzyskania przychodów wydatków i kosztów bezpośrednio sfinansowanych z dochodów (przychodów), o których mowa w art. 17 ust. 1 pkt 14a, 23, 24, 42, 47, 48, 52, 53, 54a, 55, 56 i 59 ustawy.
B121: 2Dotyczy odpisów amortyzacyjnych od środków trwałych (art. 16 ust. 1 pkt 48 ustawy o podatku dochodowym od osób prawnych).
B122: 3Dotacje stanowią przychód zwolniony z podatku (art. 17 ust. 1 pkt 47, 52, 53 ustawy o podatku dochodowym od osób prawnych).
B124: wielkość etatu | C124: stawka jednostkowa na utworzenie miejsca pracy | D124: stawka jednostkowa na utrzymanie miejsca pracy
B125: 1 | C125: 35212 | D125: 38700
B126: 0.75 | C126: 35212 | D126: 29026
B127: 0.5 | C127: 35212 | D127: 19350
