Workbook

Sheet Harmonogram rzeczowo-finansowy
A1: Istniejące PS | K1: Załącznik nr 2a do Regulaminu Funduszu Przedsiębiorczości Społecznej
K2: Harmonogram rzeczowo-finansowy
A4: HARMONOGRAM RZECZOWO-FINANSOWY
A6: Nazwa podmiotu: | K6: Kwota stawki jednostkowej na utworzenie miejsca pracy | N6: Wkład własny | Q6: Razem
K7: =SUM(F12+F23+F34+F45+F56) -> 0 | N7: =SUM(G12+G23+G34+G45+G56) -> 0 | Q7: =SUM(E12+E23+E34+E45+E56) -> 0
A10: Lp. | B10: Rodzaj wydatku | C10: Liczba sztuk | D10: Koszt jednostkowy | E10: Koszt całkowity | F10: Kwota stawki jednostkowej na utworzenie miejsca pracy | G10: Wkład własny | H10: Okres wydatkowania środków (poniżej należy kwotę wydatku stawki jednostkowej na utworzenie miejsca pracy)
H11: I m-c | I11: II m-c | J11: III m-c | K11: IV m-c | L11: V m-c | M11: VI m-c | N11: VII m-c | O11: VIII m-c | P11: IX m-c | Q11: X m-c | R11: XI m-c | S11: XII m-c
A12: 1 | B12: Składniki majątku trwałgo, instalacji i uruchomienia oraz ubezpieczenia i ochrony w okresie 12 m-cy finansowania miejsca pracy (ze stawki jednostkowej na utworzenie miejsca pracy) | E12: =SUM(E13:E22) -> 0 | F12: =SUM(F13:F22) -> 0 | G12: =SUM(G13:G22) -> 0 | H12: =SUM(H13:H22) -> 0 | I12: =SUM(I13:I22) -> 0 | J12: =SUM(J13:J22) -> 0 | K12: =SUM(K13:K22) -> 0 | L12: =SUM(L13:L22) -> 0 | ... S12: =SUM(S13:S22) -> 0 | T12: =IF(E12<>T13,"Błąd w wyliczeniu","")
A13: 1.1 | E13: =D13*C13 -> 0 | T13: =SUM(H12:S12) -> 0
A14: 1.2 | E14: =D14*C14 -> 0
A15: 1.3 | E15: =D15*C15 -> 0
A16: 1.4 | E16: =D16*C16 -> 0
A17: 1.5 | E17: =D17*C17 -> 0
A18: 1.6 | E18: =D18*C18 -> 0
A19: 1.7 | E19: =D19*C19 -> 0
A20: 1.8 | E20: =D20*C20 -> 0
A21: 1.9 | E21: =D21*C21 -> 0
A22: 1.10 | E22: =D22*C22 -> 0
A23: 2 | B23: Wyposażenie miejsca pracy wraz z kosztami dostawy, instalacji i uruchomienia (ze stawki jednostkowej na utworzenie miejsca pracy) | E23: =SUM(E24:E33) -> 0 | F23: =SUM(F24:F33) -> 0 | G23: =SUM(G24:G33) -> 0 | H23: =SUM(H24:H33) -> 0 | I23: =SUM(I24:I33) -> 0 | J23: =SUM(J24:J33) -> 0 | K23: =SUM(K24:K33) -> 0 | L23: =SUM(L24:L33) -> 0 | ... S23: =SUM(S24:S33) -> 0 | T23: =IF(E23<>T24,"Błąd w wyliczeniu","")
A24: 2.1 | E24: =D24*C24 -> 0 | T24: =SUM(H23:S23) -> 0
A25: 2.2 | E25: =D25*C25 -> 0
A26: 2.3 | E26: =D26*C26 -> 0
A27: 2.4 | E27: =D27*C27 -> 0
A28: 2.5 | E28: =D28*C28 -> 0
A29: 2.6 | E29: =D29*C29 -> 0
A30: 2.7 | E30: =D30*C30 -> 0
A31: 2.8 | E31: =D31*C31 -> 0
A32: 2.9 | E32: =D32*C32 -> 0
A33: 2.10 | E33: =D33*C33 -> 0
A34: 3 | B34: Dostosowanie lub adaptacja (prace remontowo-wykończeniowe budynków i pomieszczeń) (ze stawki jednostkowej na utworzenie miejsca pracy) | E34: =SUM(E35:E44) -> 0 | F34: =SUM(F35:F44) -> 0 | G34: =SUM(G35:G44) -> 0 | H34: =SUM(H35:H44) -> 0 | I34: =SUM(I35:I44) -> 0 | J34: =SUM(J35:J44) -> 0 | K34: =SUM(K35:K44) -> 0 | L34: =SUM(L35:L44) -> 0 | ... S34: =SUM(S35:S44) -> 0 | T34: =IF(E34<>T35,"Błąd w wyliczeniu","")
A35: 3.1 | E35: =D35*C35 -> 0 | T35: =SUM(H34:S34) -> 0
A36: 3.2 | E36: =D36*C36 -> 0
A37: 3.3 | E37: =D37*C37 -> 0
A38: 3.4 | E38: =D38*C38 -> 0
A39: 3.5 | E39: =D39*C39 -> 0
A40: 3.6 | E40: =D40*C40 -> 0
A41: 3.7 | E41: =D41*C41 -> 0
A42: 3.8 | E42: =D42*C42 -> 0
A43: 3.9 | E43: =D43*C43 -> 0
A44: 3.10 | E44: =D44*C44 -> 0
...

Sheet Plan inwestycyjny i syt. finans
A1: Istniejące PS | L1: Załącznik nr 2a Regulaminu Funduszu Przediębiorczości Społecznej
L2: Plan inwestycyjny oraz sytuacja ekonomiczno-finansowa
B3: G. PLAN INWESTYCYJNY
A5: Liczba osób przewidzianych do zatrudnienia w PS, spełniających kryteria Regulaminu Funduszu Przedsiębiorczości Społecznej w ramach Projektu pn. „Ośrodek Wsparcia Ekonomii Społecznej w Nidzicy” numer FEWM.09.02-IZ.00-002/23, w tym: | R5: =SUM(R6:R8) -> 0 | S5: =IF(R5>10,"Maksymalna liczba osób przewidzianych do zatrudnienia nie może przekroczyć 10","")
C6: w przypadku utrzymania miejsca pracy na 1 etat
C7: w przypadku utrzymania miejsca pracy minimum na 3/4 etatu
C8: w przypadku utrzymania miejsca pracy minimum na 1/2 etatu
A10: Środki z dotacji inwestycyjnej | Q10: =SUM(C14:N18) -> 0 | S10: =IF(Q10>35212*R5,"Przekroczona maksymalna wartość dotacji inwestycyjnej","")
A12: G.1 | B12: Prognoza kosztów/wydatków1 | C12: Pierwszy rok działalności | O12: Drugi rok działalności | S12: =IF(SUM(C14:N18)>R5*35212,"Przekroczono limit wydatków założonych w dotacji inwestycyjnej","")
B13: Kategoria kosztu/wydatku | C13: I m-c | D13: II m-c | E13: III m-c | F13: IV m-c | G13: V m-c | H13: VI m-c | I13: VII m-c | J13: VIII m-c | K13: IX m-c | L13: X m-c | M13: XI m-c | N13: XII m-c | O13: I kw. | P13: II kw. | Q13: III kw. | R13: IV kw.
A14: 1 | B14: Składniki majątku trwałego, instalacji i uruchomienia oraz ubezpieczenia i ochrony w okresie 12 m-cy finansowania miejsca pracy (ze stawki jednostkowej na utworzenie miejsca pracy) | C14: =SUM('Harmonogram rzeczowo-finansowy'!H12) -> 0 | D14: =SUM('Harmonogram rzeczowo-finansowy'!I12) -> 0 | E14: =SUM('Harmonogram rzeczowo-finansowy'!J12) -> 0 | F14: =SUM('Harmonogram rzeczowo-finansowy'!K12) -> 0 | G14: =SUM('Harmonogram rzeczowo-finansowy'!L12) -> 0 | H14: =SUM('Harmonogram rzeczowo-finansowy'!M12) -> 0 | I14: =SUM('Harmonogram rzeczowo-finansowy'!N12) -> 0 | J14: =SUM('Harmonogram rzeczowo-finansowy'!O12) -> 0 | ... N14: =SUM('Harmonogram rzeczowo-finansowy'!S12) -> 0 | O14: 0 | P14: 0 | Q14: 0 | R14: 0
A15: 2 | B15: Wyposażenie miejsca pracy wraz z kosztami dostawy, instalacji i uruchomienia (ze stawki jednostkowej na utworzenie miejsca pracy) | C15: =SUM('Harmonogram rzeczowo-finansowy'!H23) -> 0 | D15: =SUM('Harmonogram rzeczowo-finansowy'!I23) -> 0 | E15: =SUM('Harmonogram rzeczowo-finansowy'!J23) -> 0 | F15: =SUM('Harmonogram rzeczowo-finansowy'!K23) -> 0 | G15: =SUM('Harmonogram rzeczowo-finansowy'!L23) -> 0 | H15: =SUM('Harmonogram rzeczowo-finansowy'!M23) -> 0 | I15: =SUM('Harmonogram rzeczowo-finansowy'!N23) -> 0 | J15: =SUM('Harmonogram rzeczowo-finansowy'!O23) -> 0 | ... N15: =SUM('Harmonogram rzeczowo-finansowy'!S23) -> 0 | O15: 0 | P15: 0 | Q15: 0 | R15: 0
A16: 3 | B16: Dostosowania lub adaptacji (prace remontowo-wykończeniowe budynków i pomieszczeń) (ze stawki jednostkowej na utworzenie miejsca pracy) | C16: =SUM('Harmonogram rzeczowo-finansowy'!H34) -> 0 | D16: =SUM('Harmonogram rzeczowo-finansowy'!I34) -> 0 | E16: =SUM('Harmonogram rzeczowo-finansowy'!J34) -> 0 | F16: =SUM('Harmonogram rzeczowo-finansowy'!K34) -> 0 | G16: =SUM('Harmonogram rzeczowo-finansowy'!L34) -> 0 | H16: =SUM('Harmonogram rzeczowo-finansowy'!M34) -> 0 | I16: =SUM('Harmonogram rzeczowo-finansowy'!N34) -> 0 | J16: =SUM('Harmonogram rzeczowo-finansowy'!O34) -> 0 | ... N16: =SUM('Harmonogram rzeczowo-finansowy'!S34) -> 0 | O16: 0 | P16: 0 | Q16: 0 | R16: 0
A17: 4 | B17: Środki obrotowe i środki produkcji (ze stawki jednostkowej na utworzenie miejsca pracy) | C17: =SUM('Harmonogram rzeczowo-finansowy'!H45) -> 0 | D17: =SUM('Harmonogram rzeczowo-finansowy'!I45) -> 0 | E17: =SUM('Harmonogram rzeczowo-finansowy'!J45) -> 0 | F17: =SUM('Harmonogram rzeczowo-finansowy'!K45) -> 0 | G17: =SUM('Harmonogram rzeczowo-finansowy'!L45) -> 0 | H17: =SUM('Harmonogram rzeczowo-finansowy'!M45) -> 0 | I17: =SUM('Harmonogram rzeczowo-finansowy'!N45) -> 0 | J17: =SUM('Harmonogram rzeczowo-finansowy'!O45) -> 0 | ... N17: =SUM('Harmonogram rzeczowo-finansowy'!S45) -> 0 | O17: 0 | P17: 0 | Q17: 0 | R17: 0
A18: 5 | B18: Wartości niematerialne i prawne, opłaty związane z uruchomieniem leasingu oraz kredytu inwestycyjnego (ze stawki jednostkowej na utworzenie miejsca pracy) | C18: =SUM('Harmonogram rzeczowo-finansowy'!H56) -> 0 | D18: =SUM('Harmonogram rzeczowo-finansowy'!I56) -> 0 | E18: =SUM('Harmonogram rzeczowo-finansowy'!J56) -> 0 | F18: =SUM('Harmonogram rzeczowo-finansowy'!K56) -> 0 | G18: =SUM('Harmonogram rzeczowo-finansowy'!L56) -> 0 | H18: =SUM('Harmonogram rzeczowo-finansowy'!M56) -> 0 | I18: =SUM('Harmonogram rzeczowo-finansowy'!N56) -> 0 | J18: =SUM('Harmonogram rzeczowo-finansowy'!O56) -> 0 | ... N18: =SUM('Harmonogram rzeczowo-finansowy'!S56) -> 0 | O18: 0 | P18: 0 | Q18: 0 | R18: 0
A19: 6 | B19: Opłaty związane z rejestracją/zmianą wpisu PS w KRS lub innej ewidencji
A20: 7 | B20: Wynagrodzenia pracowników netto
A21: 8 | B21: Ubezpieczenia społeczne i inne świadczenia
A22: 9 | B22: Usługi księgowe
A23: 10 | B23: Czynsz lub wynajem
A24: 11 | B24: Koszt mediów: energia elektryczna, gaz, woda, co.
A25: 12 | B25: Koszt wywozu śmieci i nieczystości stałych
A26: 13 | B26: Środki czystości
A27: 14 | B27: Podatek od nieruchomości
A28: 15 | B28: Opłaty telekomunikacyjne i teleinformatyczne
A29: 16 | B29: Abonament RTV
A30: 17 | B30: Usługi pocztowe
... A46: 33 | B46: Amortyzacja2
B47: Suma | C47: =C14+C15+C16+C17+C19+C20+C21+C18+C22+C23+C24+C25+C26+C27+C28+C29+C30+C31+C32+C33+C34+C35+C36+C37+C43+C44+C38+C39+C40+C41+C42+C45+C46 -> 0 | D47: =D14+D15+D16+D17+D19+D20+D21+D18+D22+D23+D24+D25+D26+D27+D28+D29+D30+D31+D32+D33+D34+D35+D36+D37+D43+D44+D38+D39+D40+D41+D42+D45+D46 -> 0 | E47: =E14+E15+E16+E17+E19+E20+E21+E18+E22+E23+E24+E25+E26+E27+E28+E29+E30+E31+E32+E33+E34+E35+E36+E37+E43+E44+E38+E39+E40+E41+E42+E45+E46 -> 0 | F47: =F14+F15+F16+F17+F19+F20+F21+F18+F22+F23+F24+F25+F26+F27+F28+F29+F30+F31+F32+F33+F34+F35+F36+F37+F43+F44+F38+F39+F40+F41+F42+F45+F46 -> 0 | G47: =G14+G15+G16+G17+G19+G20+G21+G18+G22+G23+G24+G25+G26+G27+G28+G29+G30+G31+G32+G33+G34+G35+G36+G37+G43+G44+G38+G39+G40+G41+G42+G45+G46 -> 0 | H47: =H14+H15+H16+H17+H19+H20+H21+H18+H22+H23+H24+H25+H26+H27+H28+H29+H30+H31+H32+H33+H34+H35+H36+H37+H43+H44+H38+H39+H40+H41+H42+H45+H46 -> 0 | I47: =I14+I15+I16+I17+I19+I20+I21+I22+I23+I24+I25+I26+I27+I28+I29+I30+I31+I32+I33+I34+I35+I36+I37+I38+I39+I40+I41+I42+I45+I46+I43+I44 -> 0 | J47: =J14+J15+J16+J17+J19+J20+J21+J22+J23+J24+J25+J26+J27+J28+J29+J30+J31+J32+J33+J34+J35+J36+J37+J38+J39+J40+J41+J42+J45+J46+J43+J44 -> 0 | K47: =K14+K15+K16+K17+K19+K20+K21+K22+K23+K24+K25+K26+K27+K28+K29+K30+K31+K32+K33+K34+K35+K36+K37+K38+K39+K40+K41+K42+K45+K46+K43+K44 -> 0 | L47: =L14+L15+L16+L17+L19+L20+L21+L22+L23+L24+L25+L26+L27+L28+L29+L30+L31+L32+L33+L34+L35+L36+L37+L38+L39+L40+L41+L42+L45+L46+L43+L44 -> 0 | M47: =M14+M15+M16+M17+M19+M20+M21+M22+M23+M24+M25+M26+M27+M28+M29+M30+M31+M32+M33+M34+M35+M36+M37+M38+M39+M40+M41+M42+M45+M46+M43+M44 -> 0 | N47: =N14+N15+N16+N17+N19+N20+N21+N22+N23+N24+N25+N26+N27+N28+N29+N30+N31+N32+N33+N34+N35+N36+N37+N38+N39+N40+N41+N42+N45+N46+N43+N44 -> 0 | O47: =O14+O15+O16+O17+O19+O20+O21+O22+O23+O24+O25+O26+O27+O28+O29+O30+O31+O32+O33+O34+O35+O36+O37+O38+O39+O40+O41+O42+O45+O46+O43+O44 -> 0 | P47: =P14+P15+P16+P17+P19+P20+P21+P22+P23+P24+P25+P26+P27+P28+P29+P30+P31+P32+P33+P34+P35+P36+P37+P38+P39+P40+P41+P42+P45+P46+P43+P44 -> 0 | ... R47: =R14+R15+R16+R17+R19+R20+R21+R22+R23+R24+R25+R26+R27+R28+R29+R30+R31+R32+R33+R34+R35+R36+R37+R38+R39+R40+R41+R42+R45+R46+R43+R44 -> 0
A49: G.2 | B49: Uzasadnienie zakupu wartości niematrialne i prawne
A51: G.3 | B51: Uzasadnienie zakupów aktywów trwałych (w szczególności uzasadnić zakup pojazdów)
A53: G.4 | B53: Opis lokalu, w którym planowane są wydatki na prace remontowe i budowlane oraz uzasadnienie konieczności przeprowadzenia tych prac (lokalizacja, prawo do lokalu, uregulowania w okresie korzystania z lokalu, umowy przedwstępne, konieczność uzyskania pozwolenia na budowę lub zgłoszenia prac budowlanych, kosztorys budowlany, komu planuje się powierzenie wykonania tych pra)
A55: G.5 | B55: Uzasadnienie zakupupów środków obrotowych
A57: G.6 | B57: Uzasadnienie zakupów wyposażenia
A59: G.7 | B59: Uzasadnienie poszczególnych kosztów (jeżeli wymagane)
B61: H. SYTUACJA EKONOMICZNO-FINANSOWA
A63: H.1 | B63: Prognoza cen oraz wielkości sprzedaży produktów/usług
A64: lp. | B64: Produkt/usługa | C64: Poprzedni rok działalności | F64: Pierwszy rok działalności | T64: Drugi rok działalności
C65: Jednostka | D65: Cena sprzedaży | E65: Wielkość sprzedaży | F65: Jednostka | G65: Cena sprzedaży | H65: Wielkość sprzedaży | T65: Jednostka | U65: Cena sprzedaży | V65: Wielkość sprzedaży
H66: I m-c | I66: II m-c | J66: III m-c | K66: IV m-c | L66: V m-c | M66: VI m-c | N66: VII m-c | O66: VIII m-c | P66: IX m-c | Q66: X m-c | R66: XI m-c | S66: XII m-c | V66: I kw. | W66: II kw. | X66: III kw. | Y66: IV kw.
...
